BEGIN:VCALENDAR
VERSION:2.0
PRODID:-//TSV Martfeld e.V. - ECPv6.15.20//NONSGML v1.0//EN
CALSCALE:GREGORIAN
METHOD:PUBLISH
X-ORIGINAL-URL:https://tsv-martfeld.de
X-WR-CALDESC:Veranstaltungen für TSV Martfeld e.V.
REFRESH-INTERVAL;VALUE=DURATION:PT1H
X-Robots-Tag:noindex
X-PUBLISHED-TTL:PT1H
BEGIN:VTIMEZONE
TZID:Europe/Paris
BEGIN:DAYLIGHT
TZOFFSETFROM:+0100
TZOFFSETTO:+0200
TZNAME:CEST
DTSTART:20250330T010000
END:DAYLIGHT
BEGIN:STANDARD
TZOFFSETFROM:+0200
TZOFFSETTO:+0100
TZNAME:CET
DTSTART:20251026T010000
END:STANDARD
BEGIN:DAYLIGHT
TZOFFSETFROM:+0100
TZOFFSETTO:+0200
TZNAME:CEST
DTSTART:20260329T010000
END:DAYLIGHT
BEGIN:STANDARD
TZOFFSETFROM:+0200
TZOFFSETTO:+0100
TZNAME:CET
DTSTART:20261025T010000
END:STANDARD
BEGIN:DAYLIGHT
TZOFFSETFROM:+0100
TZOFFSETTO:+0200
TZNAME:CEST
DTSTART:20270328T010000
END:DAYLIGHT
BEGIN:STANDARD
TZOFFSETFROM:+0200
TZOFFSETTO:+0100
TZNAME:CET
DTSTART:20271031T010000
END:STANDARD
END:VTIMEZONE
BEGIN:VTIMEZONE
TZID:Europe/Helsinki
BEGIN:DAYLIGHT
TZOFFSETFROM:+0200
TZOFFSETTO:+0300
TZNAME:EEST
DTSTART:20250330T010000
END:DAYLIGHT
BEGIN:STANDARD
TZOFFSETFROM:+0300
TZOFFSETTO:+0200
TZNAME:EET
DTSTART:20251026T010000
END:STANDARD
BEGIN:DAYLIGHT
TZOFFSETFROM:+0200
TZOFFSETTO:+0300
TZNAME:EEST
DTSTART:20260329T010000
END:DAYLIGHT
BEGIN:STANDARD
TZOFFSETFROM:+0300
TZOFFSETTO:+0200
TZNAME:EET
DTSTART:20261025T010000
END:STANDARD
BEGIN:DAYLIGHT
TZOFFSETFROM:+0200
TZOFFSETTO:+0300
TZNAME:EEST
DTSTART:20270328T010000
END:DAYLIGHT
BEGIN:STANDARD
TZOFFSETFROM:+0300
TZOFFSETTO:+0200
TZNAME:EET
DTSTART:20271031T010000
END:STANDARD
END:VTIMEZONE
BEGIN:VEVENT
DTSTART;TZID=Europe/Paris:20260423T170000
DTEND;TZID=Europe/Paris:20260423T183000
DTSTAMP:20260421T134527
CREATED:20260129T010455Z
LAST-MODIFIED:20260129T010455Z
UID:584-1776963600-1776969000@tsv-martfeld.de
SUMMARY:Tischtennis Mini
DESCRIPTION:
URL:https://tsv-martfeld.de/event/tischtennis-mini-12/
LOCATION:Sporthalle Martfeld\, Schulstraße 11\, Martfeld\, 27327\, Germany
CATEGORIES:Sporthalle,Tischtennis
END:VEVENT
BEGIN:VEVENT
DTSTART;TZID=Europe/Paris:20260423T190000
DTEND;TZID=Europe/Paris:20260423T200000
DTSTAMP:20260421T134527
CREATED:20260129T010456Z
LAST-MODIFIED:20260129T010456Z
UID:585-1776970800-1776974400@tsv-martfeld.de
SUMMARY:ZUMBA
DESCRIPTION:
URL:https://tsv-martfeld.de/event/zumba-12/
LOCATION:Sporthalle Martfeld\, Schulstraße 11\, Martfeld\, 27327\, Germany
CATEGORIES:Sporthalle,Zumba
END:VEVENT
BEGIN:VEVENT
DTSTART;TZID=Europe/Paris:20260423T193000
DTEND;TZID=Europe/Paris:20260423T211500
DTSTAMP:20260421T134527
CREATED:20260129T010457Z
LAST-MODIFIED:20260129T010457Z
UID:586-1776972600-1776978900@tsv-martfeld.de
SUMMARY:FUSSBALL 1 HERREN
DESCRIPTION:
URL:https://tsv-martfeld.de/event/fussball-1-herren-2026-04-23/
LOCATION:Sportplatz Martfeld\, Am Sportplatz 2\, Martfeld\, 27327\, Germany
CATEGORIES:Fussball,Sportplatz
END:VEVENT
BEGIN:VEVENT
DTSTART;TZID=Europe/Paris:20260424T163000
DTEND;TZID=Europe/Paris:20260424T180000
DTSTAMP:20260421T134527
CREATED:20260129T010459Z
LAST-MODIFIED:20260129T010459Z
UID:588-1777048200-1777053600@tsv-martfeld.de
SUMMARY:Fussball C-Jugend
DESCRIPTION:
URL:https://tsv-martfeld.de/event/fussball-c-jugend-12/
LOCATION:Sportplatz Martfeld\, Am Sportplatz 2\, Martfeld\, 27327\, Germany
CATEGORIES:Fussball,Sportplatz
END:VEVENT
BEGIN:VEVENT
DTSTART;TZID=Europe/Paris:20260424T180000
DTEND;TZID=Europe/Paris:20260424T220000
DTSTAMP:20260421T134527
CREATED:20260129T010500Z
LAST-MODIFIED:20260129T010500Z
UID:589-1777053600-1777068000@tsv-martfeld.de
SUMMARY:Tischtennis
DESCRIPTION:
URL:https://tsv-martfeld.de/event/tischtennis-35/
LOCATION:Sporthalle Martfeld\, Schulstraße 11\, Martfeld\, 27327\, Germany
CATEGORIES:Sporthalle,Tischtennis
END:VEVENT
BEGIN:VEVENT
DTSTART;TZID=Europe/Paris:20260425T100000
DTEND;TZID=Europe/Paris:20260425T180000
DTSTAMP:20260421T134527
CREATED:20260129T010500Z
LAST-MODIFIED:20260129T010500Z
UID:590-1777111200-1777140000@tsv-martfeld.de
SUMMARY:Tennis
DESCRIPTION:
URL:https://tsv-martfeld.de/event/tennis-12/
LOCATION:Sporthalle Martfeld\, Schulstraße 11\, Martfeld\, 27327\, Germany
CATEGORIES:Tennis
END:VEVENT
BEGIN:VEVENT
DTSTART;TZID=Europe/Paris:20260425T150000
DTEND;TZID=Europe/Paris:20260425T200000
DTSTAMP:20260421T134527
CREATED:20260129T010501Z
LAST-MODIFIED:20260129T010501Z
UID:591-1777129200-1777147200@tsv-martfeld.de
SUMMARY:Tischtennis
DESCRIPTION:
URL:https://tsv-martfeld.de/event/tischtennis-36/
LOCATION:Sporthalle Martfeld\, Schulstraße 11\, Martfeld\, 27327\, Germany
CATEGORIES:Sporthalle,Tischtennis
END:VEVENT
BEGIN:VEVENT
DTSTART;TZID=Europe/Paris:20260426T100000
DTEND;TZID=Europe/Paris:20260426T120000
DTSTAMP:20260421T134527
CREATED:20260129T010502Z
LAST-MODIFIED:20260129T010502Z
UID:592-1777197600-1777204800@tsv-martfeld.de
SUMMARY:Pickleball
DESCRIPTION:
URL:https://tsv-martfeld.de/event/pickleball-12/
LOCATION:Sporthalle Martfeld\, Schulstraße 11\, Martfeld\, 27327\, Germany
CATEGORIES:Pickleball,Sporthalle
END:VEVENT
BEGIN:VEVENT
DTSTART;TZID=Europe/Paris:20260427T173000
DTEND;TZID=Europe/Paris:20260427T190000
DTSTAMP:20260421T134527
CREATED:20260129T010505Z
LAST-MODIFIED:20260129T010505Z
UID:595-1777311000-1777316400@tsv-martfeld.de
SUMMARY:Tischtennis Kids
DESCRIPTION:
URL:https://tsv-martfeld.de/event/tischtennis-kids-13/
LOCATION:Sporthalle Martfeld\, Schulstraße 11\, Martfeld\, 27327\, Germany
CATEGORIES:Sporthalle,Tischtennis
END:VEVENT
BEGIN:VEVENT
DTSTART;TZID=Europe/Paris:20260427T190000
DTEND;TZID=Europe/Paris:20260427T220000
DTSTAMP:20260421T134527
CREATED:20260129T010507Z
LAST-MODIFIED:20260129T010507Z
UID:596-1777316400-1777327200@tsv-martfeld.de
SUMMARY:Tischtennis
DESCRIPTION:
URL:https://tsv-martfeld.de/event/tischtennis-37/
LOCATION:Sporthalle Martfeld\, Schulstraße 11\, Martfeld\, 27327\, Germany
CATEGORIES:Sporthalle,Tischtennis
END:VEVENT
BEGIN:VEVENT
DTSTART;TZID=Europe/Paris:20260428T153000
DTEND;TZID=Europe/Paris:20260428T170000
DTSTAMP:20260421T134527
CREATED:20260129T010508Z
LAST-MODIFIED:20260129T010508Z
UID:597-1777390200-1777395600@tsv-martfeld.de
SUMMARY:Eltern-Kind-Turnen
DESCRIPTION:
URL:https://tsv-martfeld.de/event/eltern-kind-turnen-13/
LOCATION:Sporthalle Martfeld\, Schulstraße 11\, Martfeld\, 27327\, Germany
CATEGORIES:Kinderturnen,Sporthalle
END:VEVENT
BEGIN:VEVENT
DTSTART;TZID=Europe/Helsinki:20260429T170000
DTEND;TZID=Europe/Helsinki:20260429T180000
DTSTAMP:20260421T134527
CREATED:20260129T010512Z
LAST-MODIFIED:20260129T010512Z
UID:602-1777482000-1777485600@tsv-martfeld.de
SUMMARY:Fussball U9 + U10
DESCRIPTION:
URL:https://tsv-martfeld.de/event/fussball-u9-u10-13/
LOCATION:Sportplatz Martfeld\, Am Sportplatz 2\, Martfeld\, 27327\, Germany
CATEGORIES:Fussball,Sportplatz
END:VEVENT
BEGIN:VEVENT
DTSTART;TZID=Europe/Helsinki:20260428T170000
DTEND;TZID=Europe/Helsinki:20260428T183000
DTSTAMP:20260421T134527
CREATED:20260129T010513Z
LAST-MODIFIED:20260129T010513Z
UID:603-1777395600-1777401000@tsv-martfeld.de
SUMMARY:Fussball D-Junioren
DESCRIPTION:
URL:https://tsv-martfeld.de/event/fussball-d-jugend-13/
LOCATION:Sportplatz Martfeld\, Am Sportplatz 2\, Martfeld\, 27327\, Germany
CATEGORIES:Fussball,Sportplatz
END:VEVENT
BEGIN:VEVENT
DTSTART;TZID=Europe/Paris:20260428T173000
DTEND;TZID=Europe/Paris:20260428T183000
DTSTAMP:20260421T134527
CREATED:20260129T010509Z
LAST-MODIFIED:20260129T010509Z
UID:598-1777397400-1777401000@tsv-martfeld.de
SUMMARY:Gymnastik 50+ Damen
DESCRIPTION:
URL:https://tsv-martfeld.de/event/gymnastik-50-damen-13/
LOCATION:Sporthalle Martfeld\, Schulstraße 11\, Martfeld\, 27327\, Germany
CATEGORIES:Gymnastik,Sporthalle
END:VEVENT
BEGIN:VEVENT
DTSTART;TZID=Europe/Helsinki:20260430T180000
DTEND;TZID=Europe/Helsinki:20260430T193000
DTSTAMP:20260421T134527
CREATED:20260129T010510Z
LAST-MODIFIED:20260129T010510Z
UID:599-1777572000-1777577400@tsv-martfeld.de
SUMMARY:Fussball A-Junioren
DESCRIPTION:
URL:https://tsv-martfeld.de/event/fussball-a-junioren-13/
LOCATION:Sportplatz Martfeld\, Am Sportplatz 2\, Martfeld\, 27327\, Germany
CATEGORIES:Fussball,Sportplatz
END:VEVENT
BEGIN:VEVENT
DTSTART;TZID=Europe/Paris:20260428T193000
DTEND;TZID=Europe/Paris:20260428T211500
DTSTAMP:20260421T134527
CREATED:20260129T010510Z
LAST-MODIFIED:20260129T010510Z
UID:600-1777404600-1777410900@tsv-martfeld.de
SUMMARY:FUSSBALL 1 HERREN
DESCRIPTION:
URL:https://tsv-martfeld.de/event/fussball-1-herren-2026-04-28/
LOCATION:Sportplatz Martfeld\, Am Sportplatz 2\, Martfeld\, 27327\, Germany
CATEGORIES:Fussball,Sportplatz
END:VEVENT
BEGIN:VEVENT
DTSTART;TZID=Europe/Paris:20260429T160000
DTEND;TZID=Europe/Paris:20260429T170000
DTSTAMP:20260421T134527
CREATED:20260129T010511Z
LAST-MODIFIED:20260129T010511Z
UID:601-1777478400-1777482000@tsv-martfeld.de
SUMMARY:Fussball U7 Maedchen
DESCRIPTION:
URL:https://tsv-martfeld.de/event/fussball-u7-maedchen-13/
LOCATION:Sportplatz Martfeld\, Am Sportplatz 2\, Martfeld\, 27327\, Germany
CATEGORIES:Fussball,Sportplatz
END:VEVENT
BEGIN:VEVENT
DTSTART;TZID=Europe/Paris:20260429T190000
DTEND;TZID=Europe/Paris:20260429T200000
DTSTAMP:20260421T134527
CREATED:20260129T010514Z
LAST-MODIFIED:20260129T010514Z
UID:604-1777489200-1777492800@tsv-martfeld.de
SUMMARY:Gymnastik 60+ Herren
DESCRIPTION:
URL:https://tsv-martfeld.de/event/gymnastik-60-herren-13/
LOCATION:Sporthalle Martfeld\, Schulstraße 11\, Martfeld\, 27327\, Germany
CATEGORIES:Gymnastik,Sporthalle
END:VEVENT
BEGIN:VEVENT
DTSTART;TZID=Europe/Helsinki:20260429T190000
DTEND;TZID=Europe/Helsinki:20260429T203000
DTSTAMP:20260421T134527
CREATED:20260129T010515Z
LAST-MODIFIED:20260129T010515Z
UID:605-1777489200-1777494600@tsv-martfeld.de
SUMMARY:Fussball 1 + 2 Damen
DESCRIPTION:
URL:https://tsv-martfeld.de/event/fussball-1-2-damen-13/
LOCATION:Sportplatz Martfeld\, Am Sportplatz 2\, Martfeld\, 27327\, Germany
CATEGORIES:Fussball,Sportplatz
END:VEVENT
BEGIN:VEVENT
DTSTART;TZID=Europe/Paris:20260430T160000
DTEND;TZID=Europe/Paris:20260430T170000
DTSTAMP:20260421T134527
CREATED:20260129T010516Z
LAST-MODIFIED:20260129T010516Z
UID:606-1777564800-1777568400@tsv-martfeld.de
SUMMARY:Spiel\, Spass & Bewegung (6-10 Jahre)
DESCRIPTION:
URL:https://tsv-martfeld.de/event/spiel-spass-bewegung-6-10-jahre-13/
LOCATION:Sporthalle Martfeld\, Schulstraße 11\, Martfeld\, 27327\, Germany
CATEGORIES:Kinderturnen,Sporthalle
END:VEVENT
BEGIN:VEVENT
DTSTART;TZID=Europe/Paris:20260430T170000
DTEND;TZID=Europe/Paris:20260430T183000
DTSTAMP:20260421T134527
CREATED:20260129T010517Z
LAST-MODIFIED:20260129T010517Z
UID:607-1777568400-1777573800@tsv-martfeld.de
SUMMARY:Tischtennis Mini
DESCRIPTION:
URL:https://tsv-martfeld.de/event/tischtennis-mini-13/
LOCATION:Sporthalle Martfeld\, Schulstraße 11\, Martfeld\, 27327\, Germany
CATEGORIES:Sporthalle,Tischtennis
END:VEVENT
BEGIN:VEVENT
DTSTART;TZID=Europe/Paris:20260430T190000
DTEND;TZID=Europe/Paris:20260430T200000
DTSTAMP:20260421T134527
CREATED:20260129T010517Z
LAST-MODIFIED:20260129T010517Z
UID:608-1777575600-1777579200@tsv-martfeld.de
SUMMARY:ZUMBA
DESCRIPTION:
URL:https://tsv-martfeld.de/event/zumba-13/
LOCATION:Sporthalle Martfeld\, Schulstraße 11\, Martfeld\, 27327\, Germany
CATEGORIES:Sporthalle,Zumba
END:VEVENT
BEGIN:VEVENT
DTSTART;TZID=Europe/Paris:20260430T193000
DTEND;TZID=Europe/Paris:20260430T211500
DTSTAMP:20260421T134527
CREATED:20260129T010518Z
LAST-MODIFIED:20260129T010518Z
UID:609-1777577400-1777583700@tsv-martfeld.de
SUMMARY:FUSSBALL 1 HERREN
DESCRIPTION:
URL:https://tsv-martfeld.de/event/fussball-1-herren-2026-04-30/
LOCATION:Sportplatz Martfeld\, Am Sportplatz 2\, Martfeld\, 27327\, Germany
CATEGORIES:Fussball,Sportplatz
END:VEVENT
BEGIN:VEVENT
DTSTART;TZID=Europe/Paris:20260501T163000
DTEND;TZID=Europe/Paris:20260501T180000
DTSTAMP:20260421T134527
CREATED:20260129T010520Z
LAST-MODIFIED:20260129T010520Z
UID:611-1777653000-1777658400@tsv-martfeld.de
SUMMARY:Fussball C-Jugend
DESCRIPTION:
URL:https://tsv-martfeld.de/event/fussball-c-jugend-13/
LOCATION:Sportplatz Martfeld\, Am Sportplatz 2\, Martfeld\, 27327\, Germany
CATEGORIES:Fussball,Sportplatz
END:VEVENT
BEGIN:VEVENT
DTSTART;TZID=Europe/Paris:20260501T180000
DTEND;TZID=Europe/Paris:20260501T220000
DTSTAMP:20260421T134527
CREATED:20260129T010521Z
LAST-MODIFIED:20260129T010521Z
UID:612-1777658400-1777672800@tsv-martfeld.de
SUMMARY:Tischtennis
DESCRIPTION:
URL:https://tsv-martfeld.de/event/tischtennis-38/
LOCATION:Sporthalle Martfeld\, Schulstraße 11\, Martfeld\, 27327\, Germany
CATEGORIES:Sporthalle,Tischtennis
END:VEVENT
BEGIN:VEVENT
DTSTART;TZID=Europe/Paris:20260502T100000
DTEND;TZID=Europe/Paris:20260502T180000
DTSTAMP:20260421T134527
CREATED:20260129T010522Z
LAST-MODIFIED:20260129T010522Z
UID:613-1777716000-1777744800@tsv-martfeld.de
SUMMARY:Tennis
DESCRIPTION:
URL:https://tsv-martfeld.de/event/tennis-13/
LOCATION:Sporthalle Martfeld\, Schulstraße 11\, Martfeld\, 27327\, Germany
CATEGORIES:Tennis
END:VEVENT
BEGIN:VEVENT
DTSTART;TZID=Europe/Paris:20260502T150000
DTEND;TZID=Europe/Paris:20260502T200000
DTSTAMP:20260421T134527
CREATED:20260129T010523Z
LAST-MODIFIED:20260129T010523Z
UID:614-1777734000-1777752000@tsv-martfeld.de
SUMMARY:Tischtennis
DESCRIPTION:
URL:https://tsv-martfeld.de/event/tischtennis-39/
LOCATION:Sporthalle Martfeld\, Schulstraße 11\, Martfeld\, 27327\, Germany
CATEGORIES:Sporthalle,Tischtennis
END:VEVENT
BEGIN:VEVENT
DTSTART;TZID=Europe/Paris:20260503T100000
DTEND;TZID=Europe/Paris:20260503T120000
DTSTAMP:20260421T134527
CREATED:20260129T010524Z
LAST-MODIFIED:20260129T010524Z
UID:615-1777802400-1777809600@tsv-martfeld.de
SUMMARY:Pickleball
DESCRIPTION:
URL:https://tsv-martfeld.de/event/pickleball-13/
LOCATION:Sporthalle Martfeld\, Schulstraße 11\, Martfeld\, 27327\, Germany
CATEGORIES:Pickleball,Sporthalle
END:VEVENT
BEGIN:VEVENT
DTSTART;TZID=Europe/Paris:20260504T173000
DTEND;TZID=Europe/Paris:20260504T190000
DTSTAMP:20260421T134527
CREATED:20260129T010526Z
LAST-MODIFIED:20260129T010526Z
UID:618-1777915800-1777921200@tsv-martfeld.de
SUMMARY:Tischtennis Kids
DESCRIPTION:
URL:https://tsv-martfeld.de/event/tischtennis-kids-14/
LOCATION:Sporthalle Martfeld\, Schulstraße 11\, Martfeld\, 27327\, Germany
CATEGORIES:Sporthalle,Tischtennis
END:VEVENT
BEGIN:VEVENT
DTSTART;TZID=Europe/Paris:20260504T190000
DTEND;TZID=Europe/Paris:20260504T220000
DTSTAMP:20260421T134527
CREATED:20260129T010527Z
LAST-MODIFIED:20260129T010527Z
UID:619-1777921200-1777932000@tsv-martfeld.de
SUMMARY:Tischtennis
DESCRIPTION:
URL:https://tsv-martfeld.de/event/tischtennis-40/
LOCATION:Sporthalle Martfeld\, Schulstraße 11\, Martfeld\, 27327\, Germany
CATEGORIES:Sporthalle,Tischtennis
END:VEVENT
END:VCALENDAR