BEGIN:VCALENDAR
VERSION:2.0
PRODID:-//TSV Martfeld e.V. - ECPv6.15.20//NONSGML v1.0//EN
CALSCALE:GREGORIAN
METHOD:PUBLISH
X-ORIGINAL-URL:https://tsv-martfeld.de
X-WR-CALDESC:Veranstaltungen für TSV Martfeld e.V.
REFRESH-INTERVAL;VALUE=DURATION:PT1H
X-Robots-Tag:noindex
X-PUBLISHED-TTL:PT1H
BEGIN:VTIMEZONE
TZID:Europe/Paris
BEGIN:DAYLIGHT
TZOFFSETFROM:+0100
TZOFFSETTO:+0200
TZNAME:CEST
DTSTART:20250330T010000
END:DAYLIGHT
BEGIN:STANDARD
TZOFFSETFROM:+0200
TZOFFSETTO:+0100
TZNAME:CET
DTSTART:20251026T010000
END:STANDARD
BEGIN:DAYLIGHT
TZOFFSETFROM:+0100
TZOFFSETTO:+0200
TZNAME:CEST
DTSTART:20260329T010000
END:DAYLIGHT
BEGIN:STANDARD
TZOFFSETFROM:+0200
TZOFFSETTO:+0100
TZNAME:CET
DTSTART:20261025T010000
END:STANDARD
BEGIN:DAYLIGHT
TZOFFSETFROM:+0100
TZOFFSETTO:+0200
TZNAME:CEST
DTSTART:20270328T010000
END:DAYLIGHT
BEGIN:STANDARD
TZOFFSETFROM:+0200
TZOFFSETTO:+0100
TZNAME:CET
DTSTART:20271031T010000
END:STANDARD
END:VTIMEZONE
BEGIN:VTIMEZONE
TZID:Europe/Helsinki
BEGIN:DAYLIGHT
TZOFFSETFROM:+0200
TZOFFSETTO:+0300
TZNAME:EEST
DTSTART:20250330T010000
END:DAYLIGHT
BEGIN:STANDARD
TZOFFSETFROM:+0300
TZOFFSETTO:+0200
TZNAME:EET
DTSTART:20251026T010000
END:STANDARD
BEGIN:DAYLIGHT
TZOFFSETFROM:+0200
TZOFFSETTO:+0300
TZNAME:EEST
DTSTART:20260329T010000
END:DAYLIGHT
BEGIN:STANDARD
TZOFFSETFROM:+0300
TZOFFSETTO:+0200
TZNAME:EET
DTSTART:20261025T010000
END:STANDARD
BEGIN:DAYLIGHT
TZOFFSETFROM:+0200
TZOFFSETTO:+0300
TZNAME:EEST
DTSTART:20270328T010000
END:DAYLIGHT
BEGIN:STANDARD
TZOFFSETFROM:+0300
TZOFFSETTO:+0200
TZNAME:EET
DTSTART:20271031T010000
END:STANDARD
END:VTIMEZONE
BEGIN:VEVENT
DTSTART;TZID=Europe/Paris:20260430T193000
DTEND;TZID=Europe/Paris:20260430T211500
DTSTAMP:20260421T182550
CREATED:20260129T010518Z
LAST-MODIFIED:20260129T010518Z
UID:609-1777577400-1777583700@tsv-martfeld.de
SUMMARY:FUSSBALL 1 HERREN
DESCRIPTION:
URL:https://tsv-martfeld.de/event/fussball-1-herren-2026-04-30/
LOCATION:Sportplatz Martfeld\, Am Sportplatz 2\, Martfeld\, 27327\, Germany
CATEGORIES:Fussball,Sportplatz
END:VEVENT
BEGIN:VEVENT
DTSTART;TZID=Europe/Paris:20260501T163000
DTEND;TZID=Europe/Paris:20260501T180000
DTSTAMP:20260421T182550
CREATED:20260129T010520Z
LAST-MODIFIED:20260129T010520Z
UID:611-1777653000-1777658400@tsv-martfeld.de
SUMMARY:Fussball C-Jugend
DESCRIPTION:
URL:https://tsv-martfeld.de/event/fussball-c-jugend-13/
LOCATION:Sportplatz Martfeld\, Am Sportplatz 2\, Martfeld\, 27327\, Germany
CATEGORIES:Fussball,Sportplatz
END:VEVENT
BEGIN:VEVENT
DTSTART;TZID=Europe/Paris:20260501T180000
DTEND;TZID=Europe/Paris:20260501T220000
DTSTAMP:20260421T182550
CREATED:20260129T010521Z
LAST-MODIFIED:20260129T010521Z
UID:612-1777658400-1777672800@tsv-martfeld.de
SUMMARY:Tischtennis
DESCRIPTION:
URL:https://tsv-martfeld.de/event/tischtennis-38/
LOCATION:Sporthalle Martfeld\, Schulstraße 11\, Martfeld\, 27327\, Germany
CATEGORIES:Sporthalle,Tischtennis
END:VEVENT
BEGIN:VEVENT
DTSTART;TZID=Europe/Paris:20260502T100000
DTEND;TZID=Europe/Paris:20260502T180000
DTSTAMP:20260421T182550
CREATED:20260129T010522Z
LAST-MODIFIED:20260129T010522Z
UID:613-1777716000-1777744800@tsv-martfeld.de
SUMMARY:Tennis
DESCRIPTION:
URL:https://tsv-martfeld.de/event/tennis-13/
LOCATION:Sporthalle Martfeld\, Schulstraße 11\, Martfeld\, 27327\, Germany
CATEGORIES:Tennis
END:VEVENT
BEGIN:VEVENT
DTSTART;TZID=Europe/Paris:20260502T150000
DTEND;TZID=Europe/Paris:20260502T200000
DTSTAMP:20260421T182550
CREATED:20260129T010523Z
LAST-MODIFIED:20260129T010523Z
UID:614-1777734000-1777752000@tsv-martfeld.de
SUMMARY:Tischtennis
DESCRIPTION:
URL:https://tsv-martfeld.de/event/tischtennis-39/
LOCATION:Sporthalle Martfeld\, Schulstraße 11\, Martfeld\, 27327\, Germany
CATEGORIES:Sporthalle,Tischtennis
END:VEVENT
BEGIN:VEVENT
DTSTART;TZID=Europe/Paris:20260503T100000
DTEND;TZID=Europe/Paris:20260503T120000
DTSTAMP:20260421T182550
CREATED:20260129T010524Z
LAST-MODIFIED:20260129T010524Z
UID:615-1777802400-1777809600@tsv-martfeld.de
SUMMARY:Pickleball
DESCRIPTION:
URL:https://tsv-martfeld.de/event/pickleball-13/
LOCATION:Sporthalle Martfeld\, Schulstraße 11\, Martfeld\, 27327\, Germany
CATEGORIES:Pickleball,Sporthalle
END:VEVENT
BEGIN:VEVENT
DTSTART;TZID=Europe/Paris:20260504T173000
DTEND;TZID=Europe/Paris:20260504T190000
DTSTAMP:20260421T182550
CREATED:20260129T010526Z
LAST-MODIFIED:20260129T010526Z
UID:618-1777915800-1777921200@tsv-martfeld.de
SUMMARY:Tischtennis Kids
DESCRIPTION:
URL:https://tsv-martfeld.de/event/tischtennis-kids-14/
LOCATION:Sporthalle Martfeld\, Schulstraße 11\, Martfeld\, 27327\, Germany
CATEGORIES:Sporthalle,Tischtennis
END:VEVENT
BEGIN:VEVENT
DTSTART;TZID=Europe/Paris:20260504T190000
DTEND;TZID=Europe/Paris:20260504T220000
DTSTAMP:20260421T182550
CREATED:20260129T010527Z
LAST-MODIFIED:20260129T010527Z
UID:619-1777921200-1777932000@tsv-martfeld.de
SUMMARY:Tischtennis
DESCRIPTION:
URL:https://tsv-martfeld.de/event/tischtennis-40/
LOCATION:Sporthalle Martfeld\, Schulstraße 11\, Martfeld\, 27327\, Germany
CATEGORIES:Sporthalle,Tischtennis
END:VEVENT
BEGIN:VEVENT
DTSTART;TZID=Europe/Paris:20260505T153000
DTEND;TZID=Europe/Paris:20260505T170000
DTSTAMP:20260421T182550
CREATED:20260129T010528Z
LAST-MODIFIED:20260129T010528Z
UID:620-1777995000-1778000400@tsv-martfeld.de
SUMMARY:Eltern-Kind-Turnen
DESCRIPTION:
URL:https://tsv-martfeld.de/event/eltern-kind-turnen-14/
LOCATION:Sporthalle Martfeld\, Schulstraße 11\, Martfeld\, 27327\, Germany
CATEGORIES:Kinderturnen,Sporthalle
END:VEVENT
BEGIN:VEVENT
DTSTART;TZID=Europe/Helsinki:20260506T170000
DTEND;TZID=Europe/Helsinki:20260506T180000
DTSTAMP:20260421T182550
CREATED:20260129T010533Z
LAST-MODIFIED:20260129T010533Z
UID:625-1778086800-1778090400@tsv-martfeld.de
SUMMARY:Fussball U9 + U10
DESCRIPTION:
URL:https://tsv-martfeld.de/event/fussball-u9-u10-14/
LOCATION:Sportplatz Martfeld\, Am Sportplatz 2\, Martfeld\, 27327\, Germany
CATEGORIES:Fussball,Sportplatz
END:VEVENT
BEGIN:VEVENT
DTSTART;TZID=Europe/Helsinki:20260505T170000
DTEND;TZID=Europe/Helsinki:20260505T183000
DTSTAMP:20260421T182550
CREATED:20260129T010534Z
LAST-MODIFIED:20260129T010534Z
UID:626-1778000400-1778005800@tsv-martfeld.de
SUMMARY:Fussball D-Junioren
DESCRIPTION:
URL:https://tsv-martfeld.de/event/fussball-d-jugend-14/
LOCATION:Sportplatz Martfeld\, Am Sportplatz 2\, Martfeld\, 27327\, Germany
CATEGORIES:Fussball,Sportplatz
END:VEVENT
BEGIN:VEVENT
DTSTART;TZID=Europe/Paris:20260505T173000
DTEND;TZID=Europe/Paris:20260505T183000
DTSTAMP:20260421T182550
CREATED:20260129T010529Z
LAST-MODIFIED:20260129T010529Z
UID:621-1778002200-1778005800@tsv-martfeld.de
SUMMARY:Gymnastik 50+ Damen
DESCRIPTION:
URL:https://tsv-martfeld.de/event/gymnastik-50-damen-14/
LOCATION:Sporthalle Martfeld\, Schulstraße 11\, Martfeld\, 27327\, Germany
CATEGORIES:Gymnastik,Sporthalle
END:VEVENT
BEGIN:VEVENT
DTSTART;TZID=Europe/Helsinki:20260507T180000
DTEND;TZID=Europe/Helsinki:20260507T193000
DTSTAMP:20260421T182550
CREATED:20260129T010530Z
LAST-MODIFIED:20260129T010530Z
UID:622-1778176800-1778182200@tsv-martfeld.de
SUMMARY:Fussball A-Junioren
DESCRIPTION:
URL:https://tsv-martfeld.de/event/fussball-a-junioren-14/
LOCATION:Sportplatz Martfeld\, Am Sportplatz 2\, Martfeld\, 27327\, Germany
CATEGORIES:Fussball,Sportplatz
END:VEVENT
BEGIN:VEVENT
DTSTART;TZID=Europe/Paris:20260505T193000
DTEND;TZID=Europe/Paris:20260505T211500
DTSTAMP:20260421T182550
CREATED:20260129T010531Z
LAST-MODIFIED:20260129T010531Z
UID:623-1778009400-1778015700@tsv-martfeld.de
SUMMARY:FUSSBALL 1 HERREN
DESCRIPTION:
URL:https://tsv-martfeld.de/event/fussball-1-herren-2026-05-05/
LOCATION:Sportplatz Martfeld\, Am Sportplatz 2\, Martfeld\, 27327\, Germany
CATEGORIES:Fussball,Sportplatz
END:VEVENT
BEGIN:VEVENT
DTSTART;TZID=Europe/Paris:20260506T160000
DTEND;TZID=Europe/Paris:20260506T170000
DTSTAMP:20260421T182550
CREATED:20260129T010532Z
LAST-MODIFIED:20260129T010532Z
UID:624-1778083200-1778086800@tsv-martfeld.de
SUMMARY:Fussball U7 Maedchen
DESCRIPTION:
URL:https://tsv-martfeld.de/event/fussball-u7-maedchen-14/
LOCATION:Sportplatz Martfeld\, Am Sportplatz 2\, Martfeld\, 27327\, Germany
CATEGORIES:Fussball,Sportplatz
END:VEVENT
BEGIN:VEVENT
DTSTART;TZID=Europe/Paris:20260506T190000
DTEND;TZID=Europe/Paris:20260506T200000
DTSTAMP:20260421T182550
CREATED:20260129T010535Z
LAST-MODIFIED:20260129T010535Z
UID:627-1778094000-1778097600@tsv-martfeld.de
SUMMARY:Gymnastik 60+ Herren
DESCRIPTION:
URL:https://tsv-martfeld.de/event/gymnastik-60-herren-14/
LOCATION:Sporthalle Martfeld\, Schulstraße 11\, Martfeld\, 27327\, Germany
CATEGORIES:Gymnastik,Sporthalle
END:VEVENT
BEGIN:VEVENT
DTSTART;TZID=Europe/Helsinki:20260506T190000
DTEND;TZID=Europe/Helsinki:20260506T203000
DTSTAMP:20260421T182550
CREATED:20260129T010536Z
LAST-MODIFIED:20260129T010536Z
UID:628-1778094000-1778099400@tsv-martfeld.de
SUMMARY:Fussball 1 + 2 Damen
DESCRIPTION:
URL:https://tsv-martfeld.de/event/fussball-1-2-damen-14/
LOCATION:Sportplatz Martfeld\, Am Sportplatz 2\, Martfeld\, 27327\, Germany
CATEGORIES:Fussball,Sportplatz
END:VEVENT
BEGIN:VEVENT
DTSTART;TZID=Europe/Paris:20260507T160000
DTEND;TZID=Europe/Paris:20260507T170000
DTSTAMP:20260421T182550
CREATED:20260129T010537Z
LAST-MODIFIED:20260129T010537Z
UID:629-1778169600-1778173200@tsv-martfeld.de
SUMMARY:Spiel\, Spass & Bewegung (6-10 Jahre)
DESCRIPTION:
URL:https://tsv-martfeld.de/event/spiel-spass-bewegung-6-10-jahre-14/
LOCATION:Sporthalle Martfeld\, Schulstraße 11\, Martfeld\, 27327\, Germany
CATEGORIES:Kinderturnen,Sporthalle
END:VEVENT
BEGIN:VEVENT
DTSTART;TZID=Europe/Paris:20260507T170000
DTEND;TZID=Europe/Paris:20260507T183000
DTSTAMP:20260421T182550
CREATED:20260129T010538Z
LAST-MODIFIED:20260129T010538Z
UID:630-1778173200-1778178600@tsv-martfeld.de
SUMMARY:Tischtennis Mini
DESCRIPTION:
URL:https://tsv-martfeld.de/event/tischtennis-mini-14/
LOCATION:Sporthalle Martfeld\, Schulstraße 11\, Martfeld\, 27327\, Germany
CATEGORIES:Sporthalle,Tischtennis
END:VEVENT
BEGIN:VEVENT
DTSTART;TZID=Europe/Paris:20260507T190000
DTEND;TZID=Europe/Paris:20260507T200000
DTSTAMP:20260421T182550
CREATED:20260129T010539Z
LAST-MODIFIED:20260129T010539Z
UID:631-1778180400-1778184000@tsv-martfeld.de
SUMMARY:ZUMBA
DESCRIPTION:
URL:https://tsv-martfeld.de/event/zumba-14/
LOCATION:Sporthalle Martfeld\, Schulstraße 11\, Martfeld\, 27327\, Germany
CATEGORIES:Sporthalle,Zumba
END:VEVENT
BEGIN:VEVENT
DTSTART;TZID=Europe/Paris:20260507T193000
DTEND;TZID=Europe/Paris:20260507T211500
DTSTAMP:20260421T182550
CREATED:20260129T010540Z
LAST-MODIFIED:20260129T010540Z
UID:632-1778182200-1778188500@tsv-martfeld.de
SUMMARY:FUSSBALL 1 HERREN
DESCRIPTION:
URL:https://tsv-martfeld.de/event/fussball-1-herren-2026-05-07/
LOCATION:Sportplatz Martfeld\, Am Sportplatz 2\, Martfeld\, 27327\, Germany
CATEGORIES:Fussball,Sportplatz
END:VEVENT
BEGIN:VEVENT
DTSTART;TZID=Europe/Paris:20260508T163000
DTEND;TZID=Europe/Paris:20260508T180000
DTSTAMP:20260421T182550
CREATED:20260129T010542Z
LAST-MODIFIED:20260129T010542Z
UID:634-1778257800-1778263200@tsv-martfeld.de
SUMMARY:Fussball C-Jugend
DESCRIPTION:
URL:https://tsv-martfeld.de/event/fussball-c-jugend-14/
LOCATION:Sportplatz Martfeld\, Am Sportplatz 2\, Martfeld\, 27327\, Germany
CATEGORIES:Fussball,Sportplatz
END:VEVENT
BEGIN:VEVENT
DTSTART;TZID=Europe/Paris:20260508T180000
DTEND;TZID=Europe/Paris:20260508T220000
DTSTAMP:20260421T182550
CREATED:20260129T010543Z
LAST-MODIFIED:20260129T010543Z
UID:635-1778263200-1778277600@tsv-martfeld.de
SUMMARY:Tischtennis
DESCRIPTION:
URL:https://tsv-martfeld.de/event/tischtennis-41/
LOCATION:Sporthalle Martfeld\, Schulstraße 11\, Martfeld\, 27327\, Germany
CATEGORIES:Sporthalle,Tischtennis
END:VEVENT
BEGIN:VEVENT
DTSTART;TZID=Europe/Paris:20260509T100000
DTEND;TZID=Europe/Paris:20260509T180000
DTSTAMP:20260421T182550
CREATED:20260129T010544Z
LAST-MODIFIED:20260129T010544Z
UID:636-1778320800-1778349600@tsv-martfeld.de
SUMMARY:Tennis
DESCRIPTION:
URL:https://tsv-martfeld.de/event/tennis-14/
LOCATION:Sporthalle Martfeld\, Schulstraße 11\, Martfeld\, 27327\, Germany
CATEGORIES:Tennis
END:VEVENT
BEGIN:VEVENT
DTSTART;TZID=Europe/Paris:20260509T150000
DTEND;TZID=Europe/Paris:20260509T200000
DTSTAMP:20260421T182550
CREATED:20260129T010545Z
LAST-MODIFIED:20260129T010545Z
UID:637-1778338800-1778356800@tsv-martfeld.de
SUMMARY:Tischtennis
DESCRIPTION:
URL:https://tsv-martfeld.de/event/tischtennis-42/
LOCATION:Sporthalle Martfeld\, Schulstraße 11\, Martfeld\, 27327\, Germany
CATEGORIES:Sporthalle,Tischtennis
END:VEVENT
BEGIN:VEVENT
DTSTART;TZID=Europe/Paris:20260510T100000
DTEND;TZID=Europe/Paris:20260510T120000
DTSTAMP:20260421T182550
CREATED:20260129T010546Z
LAST-MODIFIED:20260129T010546Z
UID:638-1778407200-1778414400@tsv-martfeld.de
SUMMARY:Pickleball
DESCRIPTION:
URL:https://tsv-martfeld.de/event/pickleball-14/
LOCATION:Sporthalle Martfeld\, Schulstraße 11\, Martfeld\, 27327\, Germany
CATEGORIES:Pickleball,Sporthalle
END:VEVENT
BEGIN:VEVENT
DTSTART;TZID=Europe/Paris:20260511T173000
DTEND;TZID=Europe/Paris:20260511T190000
DTSTAMP:20260421T182550
CREATED:20260129T010549Z
LAST-MODIFIED:20260129T010549Z
UID:641-1778520600-1778526000@tsv-martfeld.de
SUMMARY:Tischtennis Kids
DESCRIPTION:
URL:https://tsv-martfeld.de/event/tischtennis-kids-15/
LOCATION:Sporthalle Martfeld\, Schulstraße 11\, Martfeld\, 27327\, Germany
CATEGORIES:Sporthalle,Tischtennis
END:VEVENT
BEGIN:VEVENT
DTSTART;TZID=Europe/Paris:20260511T190000
DTEND;TZID=Europe/Paris:20260511T220000
DTSTAMP:20260421T182550
CREATED:20260129T010550Z
LAST-MODIFIED:20260129T010550Z
UID:642-1778526000-1778536800@tsv-martfeld.de
SUMMARY:Tischtennis
DESCRIPTION:
URL:https://tsv-martfeld.de/event/tischtennis-43/
LOCATION:Sporthalle Martfeld\, Schulstraße 11\, Martfeld\, 27327\, Germany
CATEGORIES:Sporthalle,Tischtennis
END:VEVENT
BEGIN:VEVENT
DTSTART;TZID=Europe/Paris:20260512T153000
DTEND;TZID=Europe/Paris:20260512T170000
DTSTAMP:20260421T182550
CREATED:20260129T010551Z
LAST-MODIFIED:20260129T010551Z
UID:643-1778599800-1778605200@tsv-martfeld.de
SUMMARY:Eltern-Kind-Turnen
DESCRIPTION:
URL:https://tsv-martfeld.de/event/eltern-kind-turnen-15/
LOCATION:Sporthalle Martfeld\, Schulstraße 11\, Martfeld\, 27327\, Germany
CATEGORIES:Kinderturnen,Sporthalle
END:VEVENT
BEGIN:VEVENT
DTSTART;TZID=Europe/Helsinki:20260513T170000
DTEND;TZID=Europe/Helsinki:20260513T180000
DTSTAMP:20260421T182550
CREATED:20260129T010555Z
LAST-MODIFIED:20260129T010555Z
UID:648-1778691600-1778695200@tsv-martfeld.de
SUMMARY:Fussball U9 + U10
DESCRIPTION:
URL:https://tsv-martfeld.de/event/fussball-u9-u10-15/
LOCATION:Sportplatz Martfeld\, Am Sportplatz 2\, Martfeld\, 27327\, Germany
CATEGORIES:Fussball,Sportplatz
END:VEVENT
END:VCALENDAR