BEGIN:VCALENDAR
VERSION:2.0
PRODID:-//TSV Martfeld e.V. - ECPv6.15.20//NONSGML v1.0//EN
CALSCALE:GREGORIAN
METHOD:PUBLISH
X-ORIGINAL-URL:https://tsv-martfeld.de
X-WR-CALDESC:Veranstaltungen für TSV Martfeld e.V.
REFRESH-INTERVAL;VALUE=DURATION:PT1H
X-Robots-Tag:noindex
X-PUBLISHED-TTL:PT1H
BEGIN:VTIMEZONE
TZID:Europe/Paris
BEGIN:DAYLIGHT
TZOFFSETFROM:+0100
TZOFFSETTO:+0200
TZNAME:CEST
DTSTART:20250330T010000
END:DAYLIGHT
BEGIN:STANDARD
TZOFFSETFROM:+0200
TZOFFSETTO:+0100
TZNAME:CET
DTSTART:20251026T010000
END:STANDARD
BEGIN:DAYLIGHT
TZOFFSETFROM:+0100
TZOFFSETTO:+0200
TZNAME:CEST
DTSTART:20260329T010000
END:DAYLIGHT
BEGIN:STANDARD
TZOFFSETFROM:+0200
TZOFFSETTO:+0100
TZNAME:CET
DTSTART:20261025T010000
END:STANDARD
BEGIN:DAYLIGHT
TZOFFSETFROM:+0100
TZOFFSETTO:+0200
TZNAME:CEST
DTSTART:20270328T010000
END:DAYLIGHT
BEGIN:STANDARD
TZOFFSETFROM:+0200
TZOFFSETTO:+0100
TZNAME:CET
DTSTART:20271031T010000
END:STANDARD
END:VTIMEZONE
BEGIN:VTIMEZONE
TZID:Europe/Helsinki
BEGIN:DAYLIGHT
TZOFFSETFROM:+0200
TZOFFSETTO:+0300
TZNAME:EEST
DTSTART:20250330T010000
END:DAYLIGHT
BEGIN:STANDARD
TZOFFSETFROM:+0300
TZOFFSETTO:+0200
TZNAME:EET
DTSTART:20251026T010000
END:STANDARD
BEGIN:DAYLIGHT
TZOFFSETFROM:+0200
TZOFFSETTO:+0300
TZNAME:EEST
DTSTART:20260329T010000
END:DAYLIGHT
BEGIN:STANDARD
TZOFFSETFROM:+0300
TZOFFSETTO:+0200
TZNAME:EET
DTSTART:20261025T010000
END:STANDARD
BEGIN:DAYLIGHT
TZOFFSETFROM:+0200
TZOFFSETTO:+0300
TZNAME:EEST
DTSTART:20270328T010000
END:DAYLIGHT
BEGIN:STANDARD
TZOFFSETFROM:+0300
TZOFFSETTO:+0200
TZNAME:EET
DTSTART:20271031T010000
END:STANDARD
END:VTIMEZONE
BEGIN:VEVENT
DTSTART;TZID=Europe/Paris:20260516T100000
DTEND;TZID=Europe/Paris:20260516T180000
DTSTAMP:20260425T144521
CREATED:20260129T010608Z
LAST-MODIFIED:20260129T010608Z
UID:659-1778925600-1778954400@tsv-martfeld.de
SUMMARY:Tennis
DESCRIPTION:
URL:https://tsv-martfeld.de/event/tennis-15/
LOCATION:Sporthalle Martfeld\, Schulstraße 11\, Martfeld\, 27327\, Germany
CATEGORIES:Tennis
END:VEVENT
BEGIN:VEVENT
DTSTART;TZID=Europe/Paris:20260516T150000
DTEND;TZID=Europe/Paris:20260516T200000
DTSTAMP:20260425T144521
CREATED:20260129T010608Z
LAST-MODIFIED:20260129T010608Z
UID:660-1778943600-1778961600@tsv-martfeld.de
SUMMARY:Tischtennis
DESCRIPTION:
URL:https://tsv-martfeld.de/event/tischtennis-45/
LOCATION:Sporthalle Martfeld\, Schulstraße 11\, Martfeld\, 27327\, Germany
CATEGORIES:Sporthalle,Tischtennis
END:VEVENT
BEGIN:VEVENT
DTSTART;TZID=Europe/Paris:20260517T100000
DTEND;TZID=Europe/Paris:20260517T120000
DTSTAMP:20260425T144521
CREATED:20260129T010609Z
LAST-MODIFIED:20260129T010609Z
UID:661-1779012000-1779019200@tsv-martfeld.de
SUMMARY:Pickleball
DESCRIPTION:
URL:https://tsv-martfeld.de/event/pickleball-15/
LOCATION:Sporthalle Martfeld\, Schulstraße 11\, Martfeld\, 27327\, Germany
CATEGORIES:Pickleball,Sporthalle
END:VEVENT
BEGIN:VEVENT
DTSTART;TZID=Europe/Paris:20260518T173000
DTEND;TZID=Europe/Paris:20260518T190000
DTSTAMP:20260425T144521
CREATED:20260129T010612Z
LAST-MODIFIED:20260129T010612Z
UID:664-1779125400-1779130800@tsv-martfeld.de
SUMMARY:Tischtennis Kids
DESCRIPTION:
URL:https://tsv-martfeld.de/event/tischtennis-kids-16/
LOCATION:Sporthalle Martfeld\, Schulstraße 11\, Martfeld\, 27327\, Germany
CATEGORIES:Sporthalle,Tischtennis
END:VEVENT
BEGIN:VEVENT
DTSTART;TZID=Europe/Paris:20260518T190000
DTEND;TZID=Europe/Paris:20260518T220000
DTSTAMP:20260425T144521
CREATED:20260129T010613Z
LAST-MODIFIED:20260129T010613Z
UID:665-1779130800-1779141600@tsv-martfeld.de
SUMMARY:Tischtennis
DESCRIPTION:
URL:https://tsv-martfeld.de/event/tischtennis-46/
LOCATION:Sporthalle Martfeld\, Schulstraße 11\, Martfeld\, 27327\, Germany
CATEGORIES:Sporthalle,Tischtennis
END:VEVENT
BEGIN:VEVENT
DTSTART;TZID=Europe/Paris:20260519T153000
DTEND;TZID=Europe/Paris:20260519T170000
DTSTAMP:20260425T144521
CREATED:20260129T010614Z
LAST-MODIFIED:20260129T010614Z
UID:666-1779204600-1779210000@tsv-martfeld.de
SUMMARY:Eltern-Kind-Turnen
DESCRIPTION:
URL:https://tsv-martfeld.de/event/eltern-kind-turnen-16/
LOCATION:Sporthalle Martfeld\, Schulstraße 11\, Martfeld\, 27327\, Germany
CATEGORIES:Kinderturnen,Sporthalle
END:VEVENT
BEGIN:VEVENT
DTSTART;TZID=Europe/Helsinki:20260520T170000
DTEND;TZID=Europe/Helsinki:20260520T180000
DTSTAMP:20260425T144521
CREATED:20260129T010619Z
LAST-MODIFIED:20260129T010619Z
UID:671-1779296400-1779300000@tsv-martfeld.de
SUMMARY:Fussball U9 + U10
DESCRIPTION:
URL:https://tsv-martfeld.de/event/fussball-u9-u10-16/
LOCATION:Sportplatz Martfeld\, Am Sportplatz 2\, Martfeld\, 27327\, Germany
CATEGORIES:Fussball,Sportplatz
END:VEVENT
BEGIN:VEVENT
DTSTART;TZID=Europe/Helsinki:20260519T170000
DTEND;TZID=Europe/Helsinki:20260519T183000
DTSTAMP:20260425T144521
CREATED:20260129T010620Z
LAST-MODIFIED:20260129T010620Z
UID:672-1779210000-1779215400@tsv-martfeld.de
SUMMARY:Fussball D-Junioren
DESCRIPTION:
URL:https://tsv-martfeld.de/event/fussball-d-jugend-16/
LOCATION:Sportplatz Martfeld\, Am Sportplatz 2\, Martfeld\, 27327\, Germany
CATEGORIES:Fussball,Sportplatz
END:VEVENT
BEGIN:VEVENT
DTSTART;TZID=Europe/Paris:20260519T173000
DTEND;TZID=Europe/Paris:20260519T183000
DTSTAMP:20260425T144521
CREATED:20260129T010615Z
LAST-MODIFIED:20260129T010615Z
UID:667-1779211800-1779215400@tsv-martfeld.de
SUMMARY:Gymnastik 50+ Damen
DESCRIPTION:
URL:https://tsv-martfeld.de/event/gymnastik-50-damen-16/
LOCATION:Sporthalle Martfeld\, Schulstraße 11\, Martfeld\, 27327\, Germany
CATEGORIES:Gymnastik,Sporthalle
END:VEVENT
BEGIN:VEVENT
DTSTART;TZID=Europe/Helsinki:20260521T180000
DTEND;TZID=Europe/Helsinki:20260521T193000
DTSTAMP:20260425T144521
CREATED:20260129T010616Z
LAST-MODIFIED:20260129T010616Z
UID:668-1779386400-1779391800@tsv-martfeld.de
SUMMARY:Fussball A-Junioren
DESCRIPTION:
URL:https://tsv-martfeld.de/event/fussball-a-junioren-16/
LOCATION:Sportplatz Martfeld\, Am Sportplatz 2\, Martfeld\, 27327\, Germany
CATEGORIES:Fussball,Sportplatz
END:VEVENT
BEGIN:VEVENT
DTSTART;TZID=Europe/Paris:20260519T193000
DTEND;TZID=Europe/Paris:20260519T211500
DTSTAMP:20260425T144521
CREATED:20260129T010617Z
LAST-MODIFIED:20260129T010617Z
UID:669-1779219000-1779225300@tsv-martfeld.de
SUMMARY:FUSSBALL 1 HERREN
DESCRIPTION:
URL:https://tsv-martfeld.de/event/fussball-1-herren-2026-05-19/
LOCATION:Sportplatz Martfeld\, Am Sportplatz 2\, Martfeld\, 27327\, Germany
CATEGORIES:Fussball,Sportplatz
END:VEVENT
BEGIN:VEVENT
DTSTART;TZID=Europe/Paris:20260520T160000
DTEND;TZID=Europe/Paris:20260520T170000
DTSTAMP:20260425T144521
CREATED:20260129T010618Z
LAST-MODIFIED:20260129T010618Z
UID:670-1779292800-1779296400@tsv-martfeld.de
SUMMARY:Fussball U7 Maedchen
DESCRIPTION:
URL:https://tsv-martfeld.de/event/fussball-u7-maedchen-16/
LOCATION:Sportplatz Martfeld\, Am Sportplatz 2\, Martfeld\, 27327\, Germany
CATEGORIES:Fussball,Sportplatz
END:VEVENT
BEGIN:VEVENT
DTSTART;TZID=Europe/Paris:20260520T190000
DTEND;TZID=Europe/Paris:20260520T200000
DTSTAMP:20260425T144521
CREATED:20260129T010621Z
LAST-MODIFIED:20260129T010621Z
UID:673-1779303600-1779307200@tsv-martfeld.de
SUMMARY:Gymnastik 60+ Herren
DESCRIPTION:
URL:https://tsv-martfeld.de/event/gymnastik-60-herren-16/
LOCATION:Sporthalle Martfeld\, Schulstraße 11\, Martfeld\, 27327\, Germany
CATEGORIES:Gymnastik,Sporthalle
END:VEVENT
BEGIN:VEVENT
DTSTART;TZID=Europe/Helsinki:20260520T190000
DTEND;TZID=Europe/Helsinki:20260520T203000
DTSTAMP:20260425T144521
CREATED:20260129T010622Z
LAST-MODIFIED:20260129T010622Z
UID:674-1779303600-1779309000@tsv-martfeld.de
SUMMARY:Fussball 1 + 2 Damen
DESCRIPTION:
URL:https://tsv-martfeld.de/event/fussball-1-2-damen-16/
LOCATION:Sportplatz Martfeld\, Am Sportplatz 2\, Martfeld\, 27327\, Germany
CATEGORIES:Fussball,Sportplatz
END:VEVENT
BEGIN:VEVENT
DTSTART;TZID=Europe/Paris:20260521T160000
DTEND;TZID=Europe/Paris:20260521T170000
DTSTAMP:20260425T144521
CREATED:20260129T010623Z
LAST-MODIFIED:20260129T010623Z
UID:675-1779379200-1779382800@tsv-martfeld.de
SUMMARY:Spiel\, Spass & Bewegung (6-10 Jahre)
DESCRIPTION:
URL:https://tsv-martfeld.de/event/spiel-spass-bewegung-6-10-jahre-16/
LOCATION:Sporthalle Martfeld\, Schulstraße 11\, Martfeld\, 27327\, Germany
CATEGORIES:Kinderturnen,Sporthalle
END:VEVENT
BEGIN:VEVENT
DTSTART;TZID=Europe/Paris:20260521T170000
DTEND;TZID=Europe/Paris:20260521T183000
DTSTAMP:20260425T144521
CREATED:20260129T010624Z
LAST-MODIFIED:20260129T010624Z
UID:676-1779382800-1779388200@tsv-martfeld.de
SUMMARY:Tischtennis Mini
DESCRIPTION:
URL:https://tsv-martfeld.de/event/tischtennis-mini-16/
LOCATION:Sporthalle Martfeld\, Schulstraße 11\, Martfeld\, 27327\, Germany
CATEGORIES:Sporthalle,Tischtennis
END:VEVENT
BEGIN:VEVENT
DTSTART;TZID=Europe/Paris:20260521T190000
DTEND;TZID=Europe/Paris:20260521T200000
DTSTAMP:20260425T144521
CREATED:20260129T010625Z
LAST-MODIFIED:20260129T010625Z
UID:677-1779390000-1779393600@tsv-martfeld.de
SUMMARY:ZUMBA
DESCRIPTION:
URL:https://tsv-martfeld.de/event/zumba-16/
LOCATION:Sporthalle Martfeld\, Schulstraße 11\, Martfeld\, 27327\, Germany
CATEGORIES:Sporthalle,Zumba
END:VEVENT
BEGIN:VEVENT
DTSTART;TZID=Europe/Paris:20260521T193000
DTEND;TZID=Europe/Paris:20260521T211500
DTSTAMP:20260425T144521
CREATED:20260129T010625Z
LAST-MODIFIED:20260129T010625Z
UID:678-1779391800-1779398100@tsv-martfeld.de
SUMMARY:FUSSBALL 1 HERREN
DESCRIPTION:
URL:https://tsv-martfeld.de/event/fussball-1-herren-2026-05-21/
LOCATION:Sportplatz Martfeld\, Am Sportplatz 2\, Martfeld\, 27327\, Germany
CATEGORIES:Fussball,Sportplatz
END:VEVENT
BEGIN:VEVENT
DTSTART;TZID=Europe/Paris:20260522T163000
DTEND;TZID=Europe/Paris:20260522T180000
DTSTAMP:20260425T144521
CREATED:20260129T010627Z
LAST-MODIFIED:20260129T010627Z
UID:680-1779467400-1779472800@tsv-martfeld.de
SUMMARY:Fussball C-Jugend
DESCRIPTION:
URL:https://tsv-martfeld.de/event/fussball-c-jugend-16/
LOCATION:Sportplatz Martfeld\, Am Sportplatz 2\, Martfeld\, 27327\, Germany
CATEGORIES:Fussball,Sportplatz
END:VEVENT
BEGIN:VEVENT
DTSTART;TZID=Europe/Paris:20260522T180000
DTEND;TZID=Europe/Paris:20260522T220000
DTSTAMP:20260425T144521
CREATED:20260129T010628Z
LAST-MODIFIED:20260129T010628Z
UID:681-1779472800-1779487200@tsv-martfeld.de
SUMMARY:Tischtennis
DESCRIPTION:
URL:https://tsv-martfeld.de/event/tischtennis-47/
LOCATION:Sporthalle Martfeld\, Schulstraße 11\, Martfeld\, 27327\, Germany
CATEGORIES:Sporthalle,Tischtennis
END:VEVENT
BEGIN:VEVENT
DTSTART;TZID=Europe/Paris:20260523T100000
DTEND;TZID=Europe/Paris:20260523T180000
DTSTAMP:20260425T144521
CREATED:20260129T010630Z
LAST-MODIFIED:20260129T010630Z
UID:682-1779530400-1779559200@tsv-martfeld.de
SUMMARY:Tennis
DESCRIPTION:
URL:https://tsv-martfeld.de/event/tennis-16/
LOCATION:Sporthalle Martfeld\, Schulstraße 11\, Martfeld\, 27327\, Germany
CATEGORIES:Tennis
END:VEVENT
BEGIN:VEVENT
DTSTART;TZID=Europe/Paris:20260523T150000
DTEND;TZID=Europe/Paris:20260523T200000
DTSTAMP:20260425T144521
CREATED:20260129T010631Z
LAST-MODIFIED:20260129T010631Z
UID:683-1779548400-1779566400@tsv-martfeld.de
SUMMARY:Tischtennis
DESCRIPTION:
URL:https://tsv-martfeld.de/event/tischtennis-48/
LOCATION:Sporthalle Martfeld\, Schulstraße 11\, Martfeld\, 27327\, Germany
CATEGORIES:Sporthalle,Tischtennis
END:VEVENT
BEGIN:VEVENT
DTSTART;TZID=Europe/Paris:20260524T100000
DTEND;TZID=Europe/Paris:20260524T120000
DTSTAMP:20260425T144521
CREATED:20260129T010631Z
LAST-MODIFIED:20260129T010631Z
UID:684-1779616800-1779624000@tsv-martfeld.de
SUMMARY:Pickleball
DESCRIPTION:
URL:https://tsv-martfeld.de/event/pickleball-16/
LOCATION:Sporthalle Martfeld\, Schulstraße 11\, Martfeld\, 27327\, Germany
CATEGORIES:Pickleball,Sporthalle
END:VEVENT
BEGIN:VEVENT
DTSTART;TZID=Europe/Paris:20260525T173000
DTEND;TZID=Europe/Paris:20260525T190000
DTSTAMP:20260425T144521
CREATED:20260129T010634Z
LAST-MODIFIED:20260129T010634Z
UID:687-1779730200-1779735600@tsv-martfeld.de
SUMMARY:Tischtennis Kids
DESCRIPTION:
URL:https://tsv-martfeld.de/event/tischtennis-kids-17/
LOCATION:Sporthalle Martfeld\, Schulstraße 11\, Martfeld\, 27327\, Germany
CATEGORIES:Sporthalle,Tischtennis
END:VEVENT
BEGIN:VEVENT
DTSTART;TZID=Europe/Paris:20260525T190000
DTEND;TZID=Europe/Paris:20260525T220000
DTSTAMP:20260425T144521
CREATED:20260129T010635Z
LAST-MODIFIED:20260129T010635Z
UID:688-1779735600-1779746400@tsv-martfeld.de
SUMMARY:Tischtennis
DESCRIPTION:
URL:https://tsv-martfeld.de/event/tischtennis-49/
LOCATION:Sporthalle Martfeld\, Schulstraße 11\, Martfeld\, 27327\, Germany
CATEGORIES:Sporthalle,Tischtennis
END:VEVENT
BEGIN:VEVENT
DTSTART;TZID=Europe/Paris:20260526T153000
DTEND;TZID=Europe/Paris:20260526T170000
DTSTAMP:20260425T144521
CREATED:20260129T010636Z
LAST-MODIFIED:20260129T010636Z
UID:689-1779809400-1779814800@tsv-martfeld.de
SUMMARY:Eltern-Kind-Turnen
DESCRIPTION:
URL:https://tsv-martfeld.de/event/eltern-kind-turnen-17/
LOCATION:Sporthalle Martfeld\, Schulstraße 11\, Martfeld\, 27327\, Germany
CATEGORIES:Kinderturnen,Sporthalle
END:VEVENT
BEGIN:VEVENT
DTSTART;TZID=Europe/Helsinki:20260527T170000
DTEND;TZID=Europe/Helsinki:20260527T180000
DTSTAMP:20260425T144521
CREATED:20260129T010641Z
LAST-MODIFIED:20260129T010641Z
UID:694-1779901200-1779904800@tsv-martfeld.de
SUMMARY:Fussball U9 + U10
DESCRIPTION:
URL:https://tsv-martfeld.de/event/fussball-u9-u10-17/
LOCATION:Sportplatz Martfeld\, Am Sportplatz 2\, Martfeld\, 27327\, Germany
CATEGORIES:Fussball,Sportplatz
END:VEVENT
BEGIN:VEVENT
DTSTART;TZID=Europe/Helsinki:20260526T170000
DTEND;TZID=Europe/Helsinki:20260526T183000
DTSTAMP:20260425T144521
CREATED:20260129T010642Z
LAST-MODIFIED:20260129T010642Z
UID:695-1779814800-1779820200@tsv-martfeld.de
SUMMARY:Fussball D-Junioren
DESCRIPTION:
URL:https://tsv-martfeld.de/event/fussball-d-jugend-17/
LOCATION:Sportplatz Martfeld\, Am Sportplatz 2\, Martfeld\, 27327\, Germany
CATEGORIES:Fussball,Sportplatz
END:VEVENT
BEGIN:VEVENT
DTSTART;TZID=Europe/Paris:20260526T173000
DTEND;TZID=Europe/Paris:20260526T183000
DTSTAMP:20260425T144521
CREATED:20260129T010637Z
LAST-MODIFIED:20260129T010637Z
UID:690-1779816600-1779820200@tsv-martfeld.de
SUMMARY:Gymnastik 50+ Damen
DESCRIPTION:
URL:https://tsv-martfeld.de/event/gymnastik-50-damen-17/
LOCATION:Sporthalle Martfeld\, Schulstraße 11\, Martfeld\, 27327\, Germany
CATEGORIES:Gymnastik,Sporthalle
END:VEVENT
BEGIN:VEVENT
DTSTART;TZID=Europe/Helsinki:20260528T180000
DTEND;TZID=Europe/Helsinki:20260528T193000
DTSTAMP:20260425T144521
CREATED:20260129T010638Z
LAST-MODIFIED:20260129T010638Z
UID:691-1779991200-1779996600@tsv-martfeld.de
SUMMARY:Fussball A-Junioren
DESCRIPTION:
URL:https://tsv-martfeld.de/event/fussball-a-junioren-17/
LOCATION:Sportplatz Martfeld\, Am Sportplatz 2\, Martfeld\, 27327\, Germany
CATEGORIES:Fussball,Sportplatz
END:VEVENT
END:VCALENDAR